BEGIN:VCALENDAR
VERSION:2.0
PRODID:-//Charlottesville Family - ECPv6.15.20//NONSGML v1.0//EN
CALSCALE:GREGORIAN
METHOD:PUBLISH
X-WR-CALNAME:Charlottesville Family
X-ORIGINAL-URL:https://charlottesvillefamily.com
X-WR-CALDESC:Events for Charlottesville Family
REFRESH-INTERVAL;VALUE=DURATION:PT1H
X-Robots-Tag:noindex
X-PUBLISHED-TTL:PT1H
BEGIN:VTIMEZONE
TZID:UTC
BEGIN:STANDARD
TZOFFSETFROM:+0000
TZOFFSETTO:+0000
TZNAME:UTC
DTSTART:20250101T000000
END:STANDARD
END:VTIMEZONE
BEGIN:VTIMEZONE
TZID:America/Chicago
BEGIN:DAYLIGHT
TZOFFSETFROM:-0600
TZOFFSETTO:-0500
TZNAME:CDT
DTSTART:20250309T080000
END:DAYLIGHT
BEGIN:STANDARD
TZOFFSETFROM:-0500
TZOFFSETTO:-0600
TZNAME:CST
DTSTART:20251102T070000
END:STANDARD
BEGIN:DAYLIGHT
TZOFFSETFROM:-0600
TZOFFSETTO:-0500
TZNAME:CDT
DTSTART:20260308T080000
END:DAYLIGHT
BEGIN:STANDARD
TZOFFSETFROM:-0500
TZOFFSETTO:-0600
TZNAME:CST
DTSTART:20261101T070000
END:STANDARD
BEGIN:DAYLIGHT
TZOFFSETFROM:-0600
TZOFFSETTO:-0500
TZNAME:CDT
DTSTART:20270314T080000
END:DAYLIGHT
BEGIN:STANDARD
TZOFFSETFROM:-0500
TZOFFSETTO:-0600
TZNAME:CST
DTSTART:20271107T070000
END:STANDARD
END:VTIMEZONE
BEGIN:VEVENT
DTSTART;TZID=UTC:20260424T000000
DTEND;TZID=UTC:20260424T235959
DTSTAMP:20260424T045037
CREATED:20250922T191238Z
LAST-MODIFIED:20251030T214345Z
UID:10002579-1776988800-1777075199@charlottesvillefamily.com
SUMMARY:Garden Glow at Maymont
DESCRIPTION:Step into a glowing world of color at Garden Glow presented by Kroger — where light and a bit of magic take over Maymont after dark. Wander through mesmerizing light installations by international artists. \nAfter a moderately hilly hike through the woods\, enjoy a serene stroll through the Japanese Garden\, and fun and refreshments in the Glow Village with your whole crew. Whether you’re out for a fun family night or a date with your favorite plus-one\, Garden Glow is the perfect way to light up your evening. \n\nStroll down the Woodland Trail to discover L’Envol\, a flock of illuminated birds caught mid-flight among the trees. Wander through the Japanese Garden\, where vibrant colors ripple from the treetops to the reflection in the pond. Loop back to the party in the Glow Village via the Woodland Trail. \nAllow about 90 minutes to soak it all in — the entire pathway is a little over a mile long. Catch a trolley to the Japanese Garden if you prefer to skip the climb back up the rustic Woodland Trail. Opening Times Vary\, (Closed Mondays\, last entry at 9pm) \n\n\nNEW THIS YEAR: Glow Up!\nA Special Night to Support Maymont\, October 16\nMaymont supporters can enjoy a one-of-a-kind Garden Glow experience. Perfect for entertaining clients\, employees or an extended group of family and friends. Glow Up includes a VIP swag bag\, photo ops\, drink vouchers and light bites\, plus live entertainment like taiko drummers and light-up stilt walkers! Capacity is significantly limited on this unique Garden Glow night. Proceeds will help provide care for this Richmond treasure. \nAll proceeds help Maymont care for its historic mansion\, sprawling gardens and resident animals. \nJust because the weather is cold doesn’t mean you have to stay home! We’ve got plenty of winter fun for families to explore with seasonal day trips\, local holiday light displays\, and our favorite Christmas events in Charlottesville. If you need an indoor activity\, we’ve got nine local adventures for winter break. And don’t miss our guide to Charlottesville’s Christmas tree farms! \nDon’t miss a thing—sign up for our free CharlottesvilleFamily e-Mag for weekly event highlights and family fun ideas. And be sure to meet our valued partners who serve local families.
URL:https://charlottesvillefamily.com/event/garden-glow-at-maymont/2026-04-24/
LOCATION:The Robins Nature Center at Maymont\, 2201 Shields Lake Drive\, Richmond\, VA\, 23220
CATEGORIES:All Ages,Festivals & Fairs
ATTACH;FMTTYPE=image/jpeg:https://charlottesvillefamily.com/wp-content/uploads/2022/12/maymont-06.jpg
END:VEVENT
BEGIN:VEVENT
DTSTART;TZID=America/Chicago:20260424T113000
DTEND;TZID=America/Chicago:20260424T120000
DTSTAMP:20260424T045037
CREATED:20260420T180644Z
LAST-MODIFIED:20260420T180644Z
UID:10004659-1777030200-1777032000@charlottesvillefamily.com
SUMMARY:Storytime With Hannah
DESCRIPTION:Join Hannah Barnaby\, local author and bookseller\, every Friday for an engaging storytime featuring the reading of 2–3 delightful books. \n  \nCharlottesvilleFamily connects you with what matters most! From education resources and school guides to family health advice and seasonal activities in and around Cville\, we cover it all. Don’t miss a thing—sign up for our free CharlottesvilleFamily e-Mag and get the latest straight to your inbox. And don’t miss the chance to meet our talented local partners who bring these resources to life.
URL:https://charlottesvillefamily.com/event/storytime-with-hannah-3/2026-04-24/
LOCATION:Bluebird & Co.\, 5792 Three Notch'd Rd\, Crozet\, VA\, 22932
CATEGORIES:Learning Fun,Preschoolers
ATTACH;FMTTYPE=image/avif:https://charlottesvillefamily.com/wp-content/uploads/2026/01/storytime-with-hannah-at-bluebird.avif
END:VEVENT
END:VCALENDAR