BEGIN:VCALENDAR
VERSION:2.0
PRODID:-//Charlottesville Family - ECPv6.15.20//NONSGML v1.0//EN
CALSCALE:GREGORIAN
METHOD:PUBLISH
X-WR-CALNAME:Charlottesville Family
X-ORIGINAL-URL:https://charlottesvillefamily.com
X-WR-CALDESC:Events for Charlottesville Family
REFRESH-INTERVAL;VALUE=DURATION:PT1H
X-Robots-Tag:noindex
X-PUBLISHED-TTL:PT1H
BEGIN:VTIMEZONE
TZID:UTC
BEGIN:STANDARD
TZOFFSETFROM:+0000
TZOFFSETTO:+0000
TZNAME:UTC
DTSTART:20240101T000000
END:STANDARD
END:VTIMEZONE
BEGIN:VTIMEZONE
TZID:UTC
BEGIN:STANDARD
TZOFFSETFROM:+0000
TZOFFSETTO:+0000
TZNAME:UTC
DTSTART:20240101T000000
END:STANDARD
END:VTIMEZONE
BEGIN:VEVENT
DTSTART;TZID=UTC:20250917T103000
DTEND;TZID=UTC:20250917T111500
DTSTAMP:20260421T112120
CREATED:20250910T223412Z
LAST-MODIFIED:20250915T214343Z
UID:10002258-1758105000-1758107700@charlottesvillefamily.com
SUMMARY:Raising Readers
DESCRIPTION:Preschoolers will build early literacy skills using stories\, songs\, movement\, flannel boards\, and more in this friendly\, welcoming storytime. Join us and make new friends. We will have a craft every week\, so dress with paint and glue in mind! For ages 3-5 with an accompanying parent or caregiver. \nCharlottesvilleFamily connects you with what matters most! From education resources and school guides\, to family health advice\, to seasonal activities in and around Cville\, we cover it all. Don’t miss a thing—sign up for our free CharlottesvilleFamily e-Mag and get the latest straight to your inbox. And don’t miss the chance to meet our talented local partners who bring these resources to life.
URL:https://charlottesvillefamily.com/event/raising-readers-3/
LOCATION:Jefferson-Madison Regional Library – Greene\, 222 Main Street\, Suite 101\, Stanardsville\, Virginia\, 22973
CATEGORIES:Learning Fun,Preschoolers
ATTACH;FMTTYPE=image/jpeg:https://charlottesvillefamily.com/wp-content/uploads/2025/09/Raising-Readers-Flyer.jpg
END:VEVENT
BEGIN:VEVENT
DTSTART;TZID=UTC:20250917T103000
DTEND;TZID=UTC:20250917T110000
DTSTAMP:20260421T112120
CREATED:20250910T222853Z
LAST-MODIFIED:20250915T214323Z
UID:10002257-1758105000-1758106800@charlottesvillefamily.com
SUMMARY:Wee Ones
DESCRIPTION:This 8 week program is a special time for babies and caregivers to read\, sing\, move\, and play! No siblings\, please; this is a special one-on-one time. Each baby will need the full attention of his or her caregiver. Ages 12 to 23 months.  Registration begins August 27. \nCharlottesvilleFamily connects you with what matters most! From education resources and school guides\, to family health advice\, to seasonal activities in and around Cville\, we cover it all. Don’t miss a thing—sign up for our free CharlottesvilleFamily e-Mag and get the latest straight to your inbox. And don’t miss the chance to meet our talented local partners who bring these resources to life.
URL:https://charlottesvillefamily.com/event/wee-ones/
LOCATION:Jefferson-Madison Regional Library – Crozet\, 2020 Library Avenue\, Crozet\, Virginia\, 22932
CATEGORIES:Learning Fun,Preschoolers
ATTACH;FMTTYPE=image/jpeg:https://charlottesvillefamily.com/wp-content/uploads/2025/09/Library.jpg
END:VEVENT
BEGIN:VEVENT
DTSTART;TZID=UTC:20250913T110000
DTEND;TZID=UTC:20250913T113000
DTSTAMP:20260421T112120
CREATED:20250910T033304Z
LAST-MODIFIED:20250910T033456Z
UID:10002204-1757761200-1757763000@charlottesvillefamily.com
SUMMARY:Together Tales
DESCRIPTION:Add some brain-building to your errands. Stop by on Saturdays for stories\, movement\, and early literacy: “Sing\, Talk\, Read and Play” fun for the young. \nCharlottesvilleFamily connects you with what matters most! From education resources and school guides\, to family health advice\, fun events and seasonal activities in and around Cville\, we cover it all. Don’t miss a thing—sign up for our free CharlottesvilleFamily e-Mag and get the latest straight to your inbox. And don’t miss the chance to meet our talented local partners who bring these resources to life.
URL:https://charlottesvillefamily.com/event/together-tales/
LOCATION:Jefferson-Madison Regional Library – Gordon Ave.\, 1500 Gordon Avenue\, Charlottesville\, Virginia\, 22903
CATEGORIES:Elementary School Age,Learning Fun,Preschoolers
ATTACH;FMTTYPE=image/jpeg:https://charlottesvillefamily.com/wp-content/uploads/2025/09/Together-Tales.jpg
END:VEVENT
BEGIN:VEVENT
DTSTART;TZID=UTC:20250913T103000
DTEND;TZID=UTC:20250913T110000
DTSTAMP:20260421T112120
CREATED:20250910T033047Z
LAST-MODIFIED:20250910T033047Z
UID:10002203-1757759400-1757761200@charlottesvillefamily.com
SUMMARY:Martial Arts for Kids
DESCRIPTION:Curious about martial arts? UpLevel Martial Arts will be at the Library to demonstrate different skills and let you try some out for yourself! For ages 3-5.  Required registration begins August 25. \nCharlottesvilleFamily connects you with what matters most! From education resources and school guides\, to family health advice\, fun events and seasonal activities in and around Cville\, we cover it all. Don’t miss a thing—sign up for our free CharlottesvilleFamily e-Mag and get the latest straight to your inbox. And don’t miss the chance to meet our talented local partners who bring these resources to life.
URL:https://charlottesvillefamily.com/event/martial-arts-for-kids/
LOCATION:Jefferson-Madison Regional Library – Crozet\, 2020 Library Avenue\, Crozet\, Virginia\, 22932
CATEGORIES:Preschoolers,Sports & Outdoors
ATTACH;FMTTYPE=image/jpeg:https://charlottesvillefamily.com/wp-content/uploads/2025/09/Library.jpg
END:VEVENT
BEGIN:VEVENT
DTSTART;TZID=UTC:20250912T100000
DTEND;TZID=UTC:20250912T110000
DTSTAMP:20260421T112121
CREATED:20250910T031757Z
LAST-MODIFIED:20250910T031757Z
UID:10002198-1757671200-1757674800@charlottesvillefamily.com
SUMMARY:Jump-in Jamboree
DESCRIPTION:Drop in to this informal playtime\, which includes sensory activities for little ones and their caregivers. No registration required. \nCharlottesvilleFamily connects you with what matters most! From education resources and school guides\, to family health advice\, fun events and seasonal activities in and around Cville\, we cover it all. Don’t miss a thing—sign up for our free CharlottesvilleFamily e-Mag and get the latest straight to your inbox. And don’t miss the chance to meet our talented local partners who bring these resources to life.
URL:https://charlottesvillefamily.com/event/jump-in-jamboree/
LOCATION:Jefferson-Madison Regional Library – Central\, 201 E. Market Street\, Charlottesville\, Virginia\, 22902
CATEGORIES:Learning Fun,Preschoolers
ATTACH;FMTTYPE=image/jpeg:https://charlottesvillefamily.com/wp-content/uploads/2025/09/Jump-In-Jamboree.jpg
END:VEVENT
BEGIN:VEVENT
DTSTART;TZID=UTC:20250911T103000
DTEND;TZID=UTC:20250911T230000
DTSTAMP:20260421T112121
CREATED:20250909T224821Z
LAST-MODIFIED:20250909T224821Z
UID:10002186-1757586600-1757631600@charlottesvillefamily.com
SUMMARY:Wiggle Time
DESCRIPTION:Join this wiggly\, movement-filled get-together where we build literacy skills and have fun with stories\, songs\, movement\, action rhymes\, and more. At the end of every storytime\, there will be a short social playtime with toys provided by the Friends of the Greene County Library. Storytime for ages 1-2 with an accompanying parent or caregiver\, siblings welcome!  Registration encouraged. \nCharlottesvilleFamily connects you with what matters most! From education resources and school guides\, to family health advice\, fun events and seasonal activities in and around Cville\, we cover it all. Don’t miss a thing—sign up for our free CharlottesvilleFamily e-Mag and get the latest straight to your inbox. And don’t miss the chance to meet our talented local partners who bring these resources to life.
URL:https://charlottesvillefamily.com/event/wiggle-time/
LOCATION:Jefferson-Madison Regional Library – Greene\, 222 Main Street\, Suite 101\, Stanardsville\, Virginia\, 22973
CATEGORIES:Learning Fun,Preschoolers
ATTACH;FMTTYPE=image/png:https://charlottesvillefamily.com/wp-content/uploads/2025/09/Wiggle-Time.png
END:VEVENT
BEGIN:VEVENT
DTSTART;TZID=UTC:20250911T103000
DTEND;TZID=UTC:20250911T110000
DTSTAMP:20260421T112121
CREATED:20250909T224236Z
LAST-MODIFIED:20250909T224236Z
UID:10002185-1757586600-1757588400@charlottesvillefamily.com
SUMMARY:Reading Rumpus
DESCRIPTION:A lively literacy drop-in that brings books to life with participation\, song\, and movement. Designed for children up to 4 years (but all are welcome!) to encourage early literacy and language development. For 0-4 years. No registration. \nCharlottesvilleFamily connects you with what matters most! From education resources and school guides\, to family health advice\, fun events and seasonal activities in and around Cville\, we cover it all. Don’t miss a thing—sign up for our free CharlottesvilleFamily e-Mag and get the latest straight to your inbox. And don’t miss the chance to meet our talented local partners who bring these resources to life.
URL:https://charlottesvillefamily.com/event/reading-rumpus-2/
LOCATION:Jefferson-Madison Regional Library – Gordon Ave.\, 1500 Gordon Avenue\, Charlottesville\, Virginia\, 22903
CATEGORIES:Learning Fun,Preschoolers
ATTACH;FMTTYPE=image/jpeg:https://charlottesvillefamily.com/wp-content/uploads/2025/09/Reading-Rumpus.jpg
END:VEVENT
BEGIN:VEVENT
DTSTART;TZID=UTC:20250910T110000
DTEND;TZID=UTC:20250910T113000
DTSTAMP:20260421T112121
CREATED:20250909T204130Z
LAST-MODIFIED:20250909T204130Z
UID:10002164-1757502000-1757503800@charlottesvillefamily.com
SUMMARY:Tiny Tales
DESCRIPTION:  \nSing\, play\, and share stories\, building the skills that prepare your little one for a lifelong love of reading! For children ages 0 to 3 and their caregivers.  No registration required. \nCharlottesvilleFamily connects you with what matters most! From education resources and school guides\, to family health advice\, fun events and seasonal activities in and around Cville\, we cover it all. Don’t miss a thing—sign up for our free CharlottesvilleFamily e-Mag and get the latest straight to your inbox. And don’t miss the chance to meet our talented local partners who bring these resources to life.
URL:https://charlottesvillefamily.com/event/tiny-tales/
LOCATION:Jefferson-Madison Regional Library – Central\, 201 E. Market Street\, Charlottesville\, Virginia\, 22902
CATEGORIES:Learning Fun,Preschoolers
ATTACH;FMTTYPE=image/jpeg:https://charlottesvillefamily.com/wp-content/uploads/2025/09/Tiny-Tales.jpg
END:VEVENT
BEGIN:VEVENT
DTSTART;TZID=UTC:20250910T103000
DTEND;TZID=UTC:20250910T231500
DTSTAMP:20260421T112121
CREATED:20250909T203039Z
LAST-MODIFIED:20250909T203533Z
UID:10002163-1757500200-1757546100@charlottesvillefamily.com
SUMMARY:Raising Readers
DESCRIPTION:Preschoolers will build early literacy skills using stories\, songs\, movement\, flannel boards\, and more in this friendly\, welcoming storytime. Join us and make new friends. We will have a craft every week\, so dress with paint and glue in mind! For ages 3-5 with an accompanying parent or caregiver. \nCharlottesvilleFamily connects you with what matters most! From education resources and school guides\, to family health advice\, fun events and seasonal activities in and around Cville\, we cover it all. Don’t miss a thing—sign up for our free CharlottesvilleFamily e-Mag and get the latest straight to your inbox. And don’t miss the chance to meet our talented local partners who bring these resources to life.
URL:https://charlottesvillefamily.com/event/raising-readers/
LOCATION:Jefferson-Madison Regional Library – Greene\, 222 Main Street\, Suite 101\, Stanardsville\, Virginia\, 22973
CATEGORIES:Learning Fun,Preschoolers
ATTACH;FMTTYPE=image/jpeg:https://charlottesvillefamily.com/wp-content/uploads/2025/09/Raising-Readers.jpg
END:VEVENT
BEGIN:VEVENT
DTSTART;TZID=UTC:20250910T101500
DTEND;TZID=UTC:20250910T110000
DTSTAMP:20260421T112121
CREATED:20250909T201908Z
LAST-MODIFIED:20250909T202152Z
UID:10002162-1757499300-1757502000@charlottesvillefamily.com
SUMMARY:September Preschool Playtime
DESCRIPTION:Come join us in Northside’s Meeting Room for 45 minutes of fun play! Many types of toys will be on hand for toddlers to explore and enjoy. \nPlease call the Children’s desk at 434-973-7893 ext. 5 with any questions. Ages 2-5.  No registration required. \nCharlottesvilleFamily connects you with what matters most! From education resources and school guides\, to family health advice\, fun events and seasonal activities in and around Cville\, we cover it all. Don’t miss a thing—sign up for our free CharlottesvilleFamily e-Mag and get the latest straight to your inbox. And don’t miss the chance to meet our talented local partners who bring these resources to life.
URL:https://charlottesvillefamily.com/event/september-preschool-playtime-2/
LOCATION:Jefferson-Madison Regional Library – Northside\, 705 Rio Road West\, Charlottesville\, Virginia\, 22901
CATEGORIES:Learning Fun,Preschoolers
ATTACH;FMTTYPE=image/jpeg:https://charlottesvillefamily.com/wp-content/uploads/2025/09/Preschool-Playtime.jpg
END:VEVENT
BEGIN:VEVENT
DTSTART;TZID=UTC:20250910T100000
DTEND;TZID=UTC:20250910T223000
DTSTAMP:20260421T112121
CREATED:20250823T003925Z
LAST-MODIFIED:20250903T232030Z
UID:10000653-1757498400-1757543400@charlottesvillefamily.com
SUMMARY:Storytime in the Garden
DESCRIPTION:Bring a blanket or chairs for stories and rhymes outside at Charlottesville’s Botanical Garden of the Piedmont.  After storytime\, you can enjoy the garden\, trek the trails\, delight in the wonders of nature at the garden\, or stay for the Garden’s Create with Nature program at 10:30am. The program is outside; inclement weather cancels. Ages 2-4. For more information on local schools and more\, check out the CharlottesvilleFamily Education page.   \nHappy Learning! Explore helpful resources in our blogs for Cville families—like how to identify your child’s learning style\, ways parents can support homework success\, local school news\, and practical tips for helping your preschooler dress themselves. Be sure to sign up for our free CharlottesvilleFamily e-Mag so you’ll receive weekly or monthly (you choose!) family news and events right in your inbox. Plus\, meet the amazing local businesses and partners who help families thrive in our community.
URL:https://charlottesvillefamily.com/event/storytime-in-the-garden-7/
LOCATION:Botanical Garden of the Piedmont\, 950 Melbourne Rd\, Charlottesville\, VA\, 22901\, United States
CATEGORIES:Learning Fun,Preschoolers
ATTACH;FMTTYPE=image/png:https://charlottesvillefamily.com/wp-content/uploads/2022/07/Botanical-Garden-of-the-Piedmont-logo.png
ORGANIZER;CN="Jefferson-Madison Regional Library":MAILTO:adavis@jmrl.org
END:VEVENT
BEGIN:VEVENT
DTSTART;TZID=UTC:20250909T160000
DTEND;TZID=UTC:20250909T170000
DTSTAMP:20260421T112121
CREATED:20250909T200848Z
LAST-MODIFIED:20250909T200848Z
UID:10002158-1757433600-1757437200@charlottesvillefamily.com
SUMMARY:Paws to Read with Piper
DESCRIPTION:  \nImprove your reading skills and make a new friend by reading aloud to a registered therapy dog\, Piper. Sign up for a 15-minute appointment and bring a favorite book to read. For any young reader. \nCall the library at 434.823.4050 to register. \nCharlottesvilleFamily connects you with what matters most! From education resources and school guides\, to family health advice\, fun events and seasonal activities in and around Cville\, we cover it all. Don’t miss a thing—sign up for our free CharlottesvilleFamily e-Mag and get the latest straight to your inbox. And don’t miss the chance to meet our talented local partners who bring these resources to life.
URL:https://charlottesvillefamily.com/event/paws-to-read-with-piper/
LOCATION:Jefferson-Madison Regional Library – Northside\, 705 Rio Road West\, Charlottesville\, Virginia\, 22901
CATEGORIES:Elementary School Age,Learning Fun,Preschoolers
ATTACH;FMTTYPE=image/png:https://charlottesvillefamily.com/wp-content/uploads/2025/09/Paws-to-Reaing.png
END:VEVENT
END:VCALENDAR